BEGIN:VCALENDAR
VERSION:2.0
PRODID:-//ChamberMaster//Event Calendar 2.0//EN
METHOD:PUBLISH
X-PUBLISHED-TTL:P3D
REFRESH-INTERVAL:P3D
CALSCALE:GREGORIAN
BEGIN:VEVENT
DTSTART:20230513T140000Z
DTEND:20230513T160000Z
X-MICROSOFT-CDO-ALLDAYEVENT:FALSE
SUMMARY:4th Annual Adel Safety Bike Rodeo
DESCRIPTION:Adel Rotary and the Adel Police Department are hosting their 4th Annual Safety Bike Rodeo. Kids ages 5-12 will learn about safe bicycle-riding practices and ride the course. This come-and-go event is free and offers interactive activities\, free giveaways\, and a drawing for prizes.
X-ALT-DESC;FMTTYPE=text/html:Adel Rotary and the Adel Police Department are hosting their 4th Annual Safety Bike Rodeo. Kids ages 5-12 will learn about safe bicycle-riding practices and ride the course. This come-and-go event is free and offers interactive activities\, free giveaways\, and a drawing for prizes.
LOCATION:Adel City Hall Parking Lot
UID:e.2561.3507
SEQUENCE:3
DTSTAMP:20260421T213551Z
URL:https://business.adelpartners.org/events/details/4th-annual-adel-safety-bike-rodeo-3507
END:VEVENT

END:VCALENDAR
