BEGIN:VCALENDAR
VERSION:2.0
PRODID:-//ChamberMaster//Event Calendar 2.0//EN
METHOD:PUBLISH
X-PUBLISHED-TTL:P3D
REFRESH-INTERVAL:P3D
CALSCALE:GREGORIAN
BEGIN:VEVENT
DTSTART:20180607T130000Z
DTEND:20180609T200000Z
X-MICROSOFT-CDO-ALLDAYEVENT:FALSE
SUMMARY:7th Annual Garage & Bake Sale
DESCRIPTION:Fundraiser event for survivors of domestic abuse and sexual assault in Dallas County. All proceeds go towards survivors! We have housewares\, furniture\, clothing and more!
X-ALT-DESC;FMTTYPE=text/html:Fundraiser event for survivors of domestic abuse and sexual assault in Dallas County. All proceeds go towards survivors! We have housewares\, furniture\, clothing and more!
LOCATION:Dallas County Fairgrounds\, Adel Iowa
UID:e.2561.3228
SEQUENCE:3
DTSTAMP:20260425T104408Z
URL:https://business.adelpartners.org/events/details/7th-annual-garage-bake-sale-3228
END:VEVENT

END:VCALENDAR
