BEGIN:VCALENDAR
VERSION:2.0
PRODID:-//ChamberMaster//Event Calendar 2.0//EN
METHOD:PUBLISH
X-PUBLISHED-TTL:P3D
REFRESH-INTERVAL:P3D
CALSCALE:GREGORIAN
BEGIN:VEVENT
DTSTART:20210316T180000Z
DTEND:20210316T220000Z
X-MICROSOFT-CDO-ALLDAYEVENT:FALSE
SUMMARY:Adel Acres Mobile Blood Drive
DESCRIPTION:Adel Acres would like to invite the community to join us in mobile blood drive effort on Tuesday\, March 16th starting at 1:00! Whole blood donation times are available every 15 minutes starting at 1:10 and double red appointments are available every hour on the hour. Please visit here to view available appointment times and register:\n\nhttps://donor.lifeservebloodcenter.org/.../drive.../173911\n\n\n\nEach blood donation can save three lives. In light of the pandemic\, blood donations will be tested for antibodies\, and if your antibody test result is positive\, the plasma from your blood donation may be processed into a convalescent plasma product to help patients battling the virus.\n\n\n\nThanks in advance for your support of this effort. Please call the office 515.993.4511 if you have any questions. More information will be released to registries about special accommodations being made for the current times.
X-ALT-DESC;FMTTYPE=text/html:<div class="kvgmc6g5 cxmmr5t8 oygrvhab hcukyx3x c1et5uql ii04i59q" style="overflow-wrap: break-word\; margin: 0px\; white-space: pre-wrap\; font-family: &quot\;Segoe UI Historic&quot\;\, &quot\;Segoe UI&quot\;\, Helvetica\, Arial\, sans-serif\; color: rgb(5\, 5\, 5)\; font-size: 15px\; background-color: rgb(255\, 255\, 255)\;">\n<div dir="auto" style="font-family: inherit\;">Adel Acres would like to invite the community to join us in mobile blood drive effort on Tuesday\, March 16th starting at 1:00! Whole blood donation times are available every 15 minutes starting at 1:10 and double red appointments are available every hour on the hour. Please visit here to view available appointment times and register:</div>\n\n<div dir="auto" style="font-family: inherit\;"><span style="font-family: inherit\;"><a class="oajrlxb2 g5ia77u1 qu0x051f esr5mh6w e9989ue4 r7d6kgcz rq0escxv nhd2j8a9 nc684nl6 p7hjln8o kvgmc6g5 cxmmr5t8 oygrvhab hcukyx3x jb3vyjys rz4wbd8a qt6c0cv9 a8nywdso i1ao9s8h esuyzwwr f1sip0of lzcic4wl py34i1dx gpro0wi8" href="https://l.facebook.com/l.php?u=https%3A%2F%2Fdonor.lifeservebloodcenter.org%2Fdonor%2Fschedules%2Fdrive_schedule%2F173911%3Ffbclid%3DIwAR0D-E-PEIGLmRfMGuNNz4H9jSlD1qA8QfFv_GI0YPyQh50k3Ahy5ZSaSV0&amp\;h=AT3e2TSCZlTDP1x1ZLsq7IecRa5_wL4504c2fhRxi9Phhbnr1--xIsPaW58mkGdkoOEi1Q34lefanII2gL8BrUBSfk5Cpp71Ug-_xvxyAg1WwUlfhLw7g5HqvjwN59Bs1g&amp\;__tn__=-UK-R&amp\;c[0]=AT38qc2eJ4o2EOkhNWgGPtvbBXyYxMWsKai7_1y4EIS6axcJkqkXo964gzRD9E5MKzlqMmef3wP0am4BzQctqJg4d-jz758qu4p-FF8izoTunTwR958A52Wo4blPSE8D793Cikt5glwrGlDYHiwy1h3x4waWNU6DQtD9AwkqXtIuDQqKW1O6ieFleyioXKnpNUWzhyIaWHlFs4kZIXM27g" rel="nofollow noopener" role="link" style="cursor: pointer\; text-decoration-line: none\; outline: none\; list-style: none\; border-width: 0px\; border-style: initial\; border-color: initial\; padding: 0px\; margin: 0px\; touch-action: manipulation\; background-color: transparent\; text-align: inherit\; display: inline\; -webkit-tap-highlight-color: transparent\; box-sizing: border-box\; font-family: inherit\;" tabindex="0" target="_blank">https://donor.lifeservebloodcenter.org/.../drive.../173911</a></span></div>\n</div>\n\n<div class="o9v6fnle cxmmr5t8 oygrvhab hcukyx3x c1et5uql ii04i59q" style="overflow-wrap: break-word\; margin: 0.5em 0px 0px\; white-space: pre-wrap\; font-family: &quot\;Segoe UI Historic&quot\;\, &quot\;Segoe UI&quot\;\, Helvetica\, Arial\, sans-serif\; color: rgb(5\, 5\, 5)\; font-size: 15px\; background-color: rgb(255\, 255\, 255)\;">\n<div dir="auto" style="font-family: inherit\;">Each blood donation can save three lives. In light of the pandemic\, blood donations will be tested for antibodies\, and if your antibody test result is positive\, the plasma from your blood donation may be processed into a convalescent plasma product to help patients battling the virus.</div>\n</div>\n\n<div class="o9v6fnle cxmmr5t8 oygrvhab hcukyx3x c1et5uql ii04i59q" style="overflow-wrap: break-word\; margin: 0.5em 0px 0px\; white-space: pre-wrap\; font-family: &quot\;Segoe UI Historic&quot\;\, &quot\;Segoe UI&quot\;\, Helvetica\, Arial\, sans-serif\; color: rgb(5\, 5\, 5)\; font-size: 15px\; background-color: rgb(255\, 255\, 255)\;">\n<div dir="auto" style="font-family: inherit\;">Thanks in advance for your support of this effort. Please call the office 515.993.4511 if you have any questions. More information will be released to registries about special accommodations being made for the current times.</div>\n</div>\n
LOCATION:Adel Acres 1919 Greene St
UID:e.2561.3311
SEQUENCE:3
DTSTAMP:20260423T082311Z
URL:https://business.adelpartners.org/events/details/adel-acres-mobile-blood-drive-3311
END:VEVENT

END:VCALENDAR
