BEGIN:VCALENDAR
VERSION:2.0
PRODID:-//ChamberMaster//Event Calendar 2.0//EN
METHOD:PUBLISH
X-PUBLISHED-TTL:P3D
REFRESH-INTERVAL:P3D
CALSCALE:GREGORIAN
BEGIN:VEVENT
DTSTART:20180424T220000Z
DTEND:20180424T233000Z
X-MICROSOFT-CDO-ALLDAYEVENT:FALSE
SUMMARY:Adel Dental Group Meet and Greet
DESCRIPTION:Adel Dental Group's Meet\, Greet and Tour Event\n\n \n\nOn April 24 the Adel Dental Group invites the public to join them to tour their new facility and meet the staff.  Located at 202 Nile Kinnick Dr S you will be able to experience their new building from 5-6:30pm.   No RSVP required.
X-ALT-DESC;FMTTYPE=text/html:<span style="font-family:garamond\,serif\;"><span style="font-size:12.0pt\;">Adel Dental Group&rsquo\;s Meet\, Greet and Tour Event</span></span><br />\n&nbsp\;<br />\n<span style="font-family:garamond\,serif\;"><span style="font-size:12.0pt\;">On April 24 the Adel Dental Group invites the public to join them to tour their new facility and meet the staff.&nbsp\; Located at 202 Nile Kinnick Dr S you will be able to experience their new building from 5-6:30pm.&nbsp\;&nbsp\; No RSVP required.</span></span><br />\n&nbsp\;
LOCATION:202 Nile Kinnick Dr S
UID:e.2561.2220
SEQUENCE:3
DTSTAMP:20260425T135118Z
URL:https://business.adelpartners.org/events/details/adel-dental-group-meet-and-greet-2220
END:VEVENT

END:VCALENDAR
