BEGIN:VCALENDAR
VERSION:2.0
PRODID:-//ChamberMaster//Event Calendar 2.0//EN
METHOD:PUBLISH
X-PUBLISHED-TTL:P3D
REFRESH-INTERVAL:P3D
CALSCALE:GREGORIAN
BEGIN:VEVENT
DTSTART:20180419T210000Z
DTEND:20180419T230000Z
X-MICROSOFT-CDO-ALLDAYEVENT:FALSE
SUMMARY:Adel Dental Group Open House and Ribbon Cutting
DESCRIPTION:The Adel Dental Group will be hosting an Open House to showcase their new building along with cutting the ribbon
X-ALT-DESC;FMTTYPE=text/html:The Adel Dental Group will be hosting an Open House to showcase their new building along with cutting the ribbon
LOCATION:202 Nile Kinnick Dr S Adel\, Ia
UID:e.2561.1218
SEQUENCE:3
DTSTAMP:20260425T135240Z
URL:https://business.adelpartners.org/events/details/adel-dental-group-open-house-and-ribbon-cutting-1218
END:VEVENT

END:VCALENDAR
