BEGIN:VCALENDAR
VERSION:2.0
PRODID:-//ChamberMaster//Event Calendar 2.0//EN
METHOD:PUBLISH
X-PUBLISHED-TTL:P3D
REFRESH-INTERVAL:P3D
CALSCALE:GREGORIAN
BEGIN:VEVENT
DTSTART:20220521T180000Z
DTEND:20220521T210000Z
X-MICROSOFT-CDO-ALLDAYEVENT:FALSE
SUMMARY:Adel Founders Day
DESCRIPTION:The City of Adel is celebrating 175 Anniversary of the founding of the City.  Panormic picture to be taken at 9th and Main St.  Cake and Ice Cream at Raccoon Valley Bank Stage and Pavilion. Historic Walk and Adel Cemetary tours will be avaiable.
X-ALT-DESC;FMTTYPE=text/html:The City of Adel is celebrating 175 Anniversary of the founding of the City.&nbsp\; Panormic picture to be taken at 9th and Main St.&nbsp\; Cake and Ice Cream at Raccoon Valley Bank Stage and Pavilion. Historic Walk and Adel Cemetary tours will be avaiable.
LOCATION:Panoramic Picture taken at 1:30 at 9th and Main Streets. Followed by cake and ice cream at 10th and Main (Raccoon Valley Bank Stage and Pavilion)
UID:e.2561.3474
SEQUENCE:3
DTSTAMP:20260422T152417Z
URL:https://business.adelpartners.org/events/details/adel-founders-day-3474
END:VEVENT

END:VCALENDAR
