BEGIN:VCALENDAR
VERSION:2.0
PRODID:-//ChamberMaster//Event Calendar 2.0//EN
METHOD:PUBLISH
X-PUBLISHED-TTL:P3D
REFRESH-INTERVAL:P3D
CALSCALE:GREGORIAN
BEGIN:VEVENT
DTSTART:20201006T163000Z
DTEND:20201006T170000Z
X-MICROSOFT-CDO-ALLDAYEVENT:FALSE
SUMMARY:Adel Park & Rec Zipline Ribbon Cutting
DESCRIPTION:Hybrid Ribbon Cutting for the newly installed zipline in Evans Park
X-ALT-DESC;FMTTYPE=text/html:Hybrid Ribbon Cutting for the newly installed zipline in Evans Park
LOCATION:Evans Park or Facebook Live
UID:e.2561.3303
SEQUENCE:3
DTSTAMP:20260423T152941Z
URL:https://business.adelpartners.org/events/details/adel-park-rec-zipline-ribbon-cutting-3303
END:VEVENT

END:VCALENDAR
