BEGIN:VCALENDAR
VERSION:2.0
PRODID:-//ChamberMaster//Event Calendar 2.0//EN
METHOD:PUBLISH
X-PUBLISHED-TTL:P3D
REFRESH-INTERVAL:P3D
CALSCALE:GREGORIAN
BEGIN:VEVENT
DTSTART:20190529T213000Z
DTEND:20190529T233000Z
X-MICROSOFT-CDO-ALLDAYEVENT:FALSE
SUMMARY:Athletico Ribbon Cutting
DESCRIPTION:Oin us at Athletico to welcome them to Adel\n\nWe will cut the ribbon at 5pm
X-ALT-DESC;FMTTYPE=text/html:Oin us at Athletico to welcome them to Adel<br />\nWe will cut the ribbon at 5pm
LOCATION:513 Nile Kinnick Dr S Suite A
UID:e.2561.3256
SEQUENCE:3
DTSTAMP:20260424T175619Z
URL:https://business.adelpartners.org/events/details/athletico-ribbon-cutting-3256
END:VEVENT

END:VCALENDAR
