BEGIN:VCALENDAR
VERSION:2.0
PRODID:-//ChamberMaster//Event Calendar 2.0//EN
METHOD:PUBLISH
X-PUBLISHED-TTL:P3D
REFRESH-INTERVAL:P3D
CALSCALE:GREGORIAN
BEGIN:VEVENT
DTSTART:20210430T160000Z
DTEND:20210501T190000Z
X-MICROSOFT-CDO-ALLDAYEVENT:FALSE
SUMMARY:Azalea Lane Boutique Celebrating 2 Years
DESCRIPTION:Come join us as Azalea Lane Boutique celebrates 2 years being in business!! We couldn't celebrate last year due to being closed for COVID but this year we will! Refreshments\, give aways and huge sales!!!
X-ALT-DESC;FMTTYPE=text/html:<span style="color: rgb(5\, 5\, 5)\; font-family: &quot\;Segoe UI Historic&quot\;\, &quot\;Segoe UI&quot\;\, Helvetica\, Arial\, sans-serif\; font-size: 15px\; background-color: rgb(255\, 255\, 255)\;">Come join us as Azalea Lane Boutique celebrates 2 years being in business!! We couldn&#39\;t celebrate last year due to being closed for COVID but this year we will! Refreshments\, give aways and huge sales!!!</span>
LOCATION:705 Main St Adel
UID:e.2561.3327
SEQUENCE:3
DTSTAMP:20260423T065611Z
URL:https://business.adelpartners.org/events/details/azalea-lane-boutique-celebrating-2-years-3327
END:VEVENT

END:VCALENDAR
