BEGIN:VCALENDAR
VERSION:2.0
PRODID:-//ChamberMaster//Event Calendar 2.0//EN
METHOD:PUBLISH
X-PUBLISHED-TTL:P3D
REFRESH-INTERVAL:P3D
CALSCALE:GREGORIAN
BEGIN:VEVENT
DTSTART:20190517T213000Z
DTEND:20190517T223000Z
X-MICROSOFT-CDO-ALLDAYEVENT:FALSE
SUMMARY:Azalea Lane Boutique Ribbon Cutting
DESCRIPTION:Ribbon Cutting to welcome our newest boutique to Adel\n\nRibbon will be cut at 5pm
X-ALT-DESC;FMTTYPE=text/html:Ribbon Cutting to welcome our newest boutique to Adel<br />\nRibbon will be cut at 5pm
LOCATION:705 Main St
UID:e.2561.3255
SEQUENCE:3
DTSTAMP:20260424T193233Z
URL:https://business.adelpartners.org/events/details/azalea-lane-boutique-ribbon-cutting-3255
END:VEVENT

END:VCALENDAR
