BEGIN:VCALENDAR
VERSION:2.0
PRODID:-//ChamberMaster//Event Calendar 2.0//EN
METHOD:PUBLISH
X-PUBLISHED-TTL:P3D
REFRESH-INTERVAL:P3D
CALSCALE:GREGORIAN
BEGIN:VEVENT
DTSTART:20211210T160000Z
DTEND:20211211T230000Z
X-MICROSOFT-CDO-ALLDAYEVENT:FALSE
SUMMARY:Bells\, Bows & Boutiques
DESCRIPTION:The Adel Partners\, Madison County\, and Indianola Chambers of Commerce have partnered up to create a self-guided holiday shopping and dining rural road trip through their communities\, as well as the City of Earlham.
X-ALT-DESC;FMTTYPE=text/html:<span style="border:none\;"><span style="font-family:helvetica\,sans-serif\;"><span style="font-size:10.0pt\;">The Adel Partners\, Madison County\, and Indianola Chambers of Commerce have partnered up to create a self-guided holiday shopping and dining rural road trip through their communities\, as well as the City of Earlham.</span></span></span>
LOCATION:Adel\, Indianola\, Earlham and Winterset
UID:e.2561.3443
SEQUENCE:3
DTSTAMP:20260422T194926Z
URL:https://business.adelpartners.org/events/details/bells-bows-boutiques-3443
END:VEVENT

END:VCALENDAR
