BEGIN:VCALENDAR
VERSION:2.0
PRODID:-//ChamberMaster//Event Calendar 2.0//EN
METHOD:PUBLISH
X-PUBLISHED-TTL:P3D
REFRESH-INTERVAL:P3D
CALSCALE:GREGORIAN
BEGIN:VEVENT
DTSTART:20210318T210000Z
DTEND:20210318T230000Z
X-MICROSOFT-CDO-ALLDAYEVENT:FALSE
SUMMARY:Big Al's BBQ Ribbon Cutting WDM Location
DESCRIPTION:Welcoming Big Al's BBQ to WDM with Ribbon Cutting and and hour of networking
X-ALT-DESC;FMTTYPE=text/html:Welcoming Big Al&#39\;s BBQ to WDM with Ribbon Cutting and and hour of networking
LOCATION:1960 Grand Ave St 23 WDM
UID:e.2561.3314
SEQUENCE:3
DTSTAMP:20260423T082105Z
URL:https://business.adelpartners.org/events/details/big-al-s-bbq-ribbon-cutting-wdm-location-3314
END:VEVENT

END:VCALENDAR
