BEGIN:VCALENDAR
VERSION:2.0
PRODID:-//ChamberMaster//Event Calendar 2.0//EN
METHOD:PUBLISH
X-PUBLISHED-TTL:P3D
REFRESH-INTERVAL:P3D
CALSCALE:GREGORIAN
BEGIN:VEVENT
DTSTART;VALUE=DATE:20210810
DTEND;VALUE=DATE:20210811
TRANSP:TRANSPARENT
X-MICROSOFT-CDO-ALLDAYEVENT:TRUE
SUMMARY:CAMS Carpet Cleaning Promo
DESCRIPTION:FREE 3M Scotchgard treatment with ANY carpet cleaning scheduled for the month of August. This treatment helps prevent stains from soaking into the carpet\, so you can easily clean up any spills using household products in between professional carpet cleanings.
X-ALT-DESC;FMTTYPE=text/html:FREE 3M Scotchgard treatment with ANY carpet cleaning scheduled for the month of August. This treatment helps prevent stains from soaking into the carpet\, so you can easily clean up any spills using household products in between professional carpet cleanings.&nbsp\;
LOCATION:Adel\, IA\, also available for clients within a reasonable distance from the area.
UID:e.2561.3408
SEQUENCE:3
DTSTAMP:20260423T030616Z
URL:https://business.adelpartners.org/events/details/cams-carpet-cleaning-promo-08-10-2021-3408
END:VEVENT

END:VCALENDAR
