BEGIN:VCALENDAR
VERSION:2.0
PRODID:-//ChamberMaster//Event Calendar 2.0//EN
METHOD:PUBLISH
X-PUBLISHED-TTL:P3D
REFRESH-INTERVAL:P3D
CALSCALE:GREGORIAN
BEGIN:VEVENT
DTSTART:20200125T000000Z
DTEND:20200125T030000Z
X-MICROSOFT-CDO-ALLDAYEVENT:FALSE
SUMMARY:CANCELLED Re-Grand Opening Arch Brow & Beauty
DESCRIPTION:Arch Brow & Beauty has relocated to 105 Riverside Dr (Harmony Hall).\n\nThey are all nestled into our new studio space and want to share it with you! \n\n\n\nCome celebrate with us. Kick up your heels and let's kick off 2020 with a relaxing night of fun. Bring your friends and double your chances of winning awesome hourly door prizes. \n\n\n\nEnjoy food\, signature drinks... oh\, and did we mention FUN?\n\n\n\nFRIDAY night only we will offer $10/unit botox. Please contact Arch directly to reserve your space at the botox bar.
X-ALT-DESC;FMTTYPE=text/html:Arch Brow &amp\; Beauty has relocated to 105 Riverside Dr (Harmony Hall).<br />\n<span style="color: rgb(29\, 33\, 41)\; font-family: Helvetica\, Arial\, sans-serif\; font-size: 14px\; white-space: pre-wrap\; background-color: rgb(255\, 255\, 255)\;">They are all nestled into our new studio space and want to share it with you! </span><br style="color: rgb(29\, 33\, 41)\; font-family: Helvetica\, Arial\, sans-serif\; font-size: 14px\; white-space: pre-wrap\; background-color: rgb(255\, 255\, 255)\;" />\n<br style="color: rgb(29\, 33\, 41)\; font-family: Helvetica\, Arial\, sans-serif\; font-size: 14px\; white-space: pre-wrap\; background-color: rgb(255\, 255\, 255)\;" />\n<span style="color: rgb(29\, 33\, 41)\; font-family: Helvetica\, Arial\, sans-serif\; font-size: 14px\; white-space: pre-wrap\; background-color: rgb(255\, 255\, 255)\;">Come celebrate with us. Kick up your heels and let&#39\;s kick off 2020 with a relaxing night of fun. Bring your friends and double your chances of winning awesome hourly door prizes. </span><br style="color: rgb(29\, 33\, 41)\; font-family: Helvetica\, Arial\, sans-serif\; font-size: 14px\; white-space: pre-wrap\; background-color: rgb(255\, 255\, 255)\;" />\n<br style="color: rgb(29\, 33\, 41)\; font-family: Helvetica\, Arial\, sans-serif\; font-size: 14px\; white-space: pre-wrap\; background-color: rgb(255\, 255\, 255)\;" />\n<span style="color: rgb(29\, 33\, 41)\; font-family: Helvetica\, Arial\, sans-serif\; font-size: 14px\; white-space: pre-wrap\; background-color: rgb(255\, 255\, 255)\;">Enjoy food\, signature drinks... oh\, and did we mention FUN?</span><br style="color: rgb(29\, 33\, 41)\; font-family: Helvetica\, Arial\, sans-serif\; font-size: 14px\; white-space: pre-wrap\; background-color: rgb(255\, 255\, 255)\;" />\n<br style="color: rgb(29\, 33\, 41)\; font-family: Helvetica\, Arial\, sans-serif\; font-size: 14px\; white-space: pre-wrap\; background-color: rgb(255\, 255\, 255)\;" />\n<span style="color: rgb(29\, 33\, 41)\; font-family: Helvetica\, Arial\, sans-serif\; font-size: 14px\; white-space: pre-wrap\; background-color: rgb(255\, 255\, 255)\;">FRIDAY night only we will offer $10/unit botox. Please contact Arch directly to reserve your space at the botox bar. </span>
LOCATION:Harmony Hall 1015 Riverside Drive
UID:e.2561.3276
SEQUENCE:3
DTSTAMP:20260424T033523Z
URL:https://business.adelpartners.org/events/details/cancelled-re-grand-opening-arch-brow-beauty-3276
END:VEVENT

END:VCALENDAR
