BEGIN:VCALENDAR
VERSION:2.0
PRODID:-//ChamberMaster//Event Calendar 2.0//EN
METHOD:PUBLISH
X-PUBLISHED-TTL:P3D
REFRESH-INTERVAL:P3D
CALSCALE:GREGORIAN
BEGIN:VEVENT
DTSTART:20190225T230000Z
DTEND:20190226T020000Z
X-MICROSOFT-CDO-ALLDAYEVENT:FALSE
SUMMARY:Celebrate Adel
DESCRIPTION:Celebrate Adel --Annual Dinner honoring the Business of the Year and Citizen of the Year
X-ALT-DESC;FMTTYPE=text/html:Celebrate Adel --Annual Dinner honoring the Business of the Year and Citizen of the Year
LOCATION:Country Lane Lodge 29300 Prospect Circle Adel
UID:e.2561.3239
SEQUENCE:3
DTSTAMP:20260424T233226Z
URL:https://business.adelpartners.org/events/details/celebrate-adel-3239
END:VEVENT

END:VCALENDAR
