BEGIN:VCALENDAR
VERSION:2.0
PRODID:-//ChamberMaster//Event Calendar 2.0//EN
METHOD:PUBLISH
X-PUBLISHED-TTL:P3D
REFRESH-INTERVAL:P3D
CALSCALE:GREGORIAN
BEGIN:VEVENT
DTSTART:20210422T213000Z
DTEND:20210423T003000Z
X-MICROSOFT-CDO-ALLDAYEVENT:FALSE
SUMMARY:Celebrate Adel
DESCRIPTION:Celebrate Adel a reception to honor the Business and Citizen of the Year
X-ALT-DESC;FMTTYPE=text/html:Celebrate Adel a reception to honor the Business and Citizen of the Year
LOCATION:Country Lane Lodge 23900 Prospect Ave
UID:e.2561.3307
SEQUENCE:3
DTSTAMP:20260423T065416Z
URL:https://business.adelpartners.org/events/details/celebrate-adel-3307
END:VEVENT

END:VCALENDAR
