BEGIN:VCALENDAR
VERSION:2.0
PRODID:-//ChamberMaster//Event Calendar 2.0//EN
METHOD:PUBLISH
X-PUBLISHED-TTL:P3D
REFRESH-INTERVAL:P3D
CALSCALE:GREGORIAN
BEGIN:VEVENT
DTSTART:20230427T213000Z
DTEND:20230428T003000Z
X-MICROSOFT-CDO-ALLDAYEVENT:FALSE
SUMMARY:Celebrate Adel
DESCRIPTION:Over 250 attendees meet to network and honor our Business and Citizen of the Year for 2022.   Join us to meet and connect with our business members and experience the Taste of Adel and De Soto.  Member restaurants and caterers will be sampling delicious items.  This is the one event you don't want to miss.
X-ALT-DESC;FMTTYPE=text/html:&nbsp\;Over 250 attendees meet to network and honor our Business and Citizen of the Year for 2022.&nbsp\; &nbsp\;Join us to meet and connect with our business members and experience the Taste of Adel and De Soto.&nbsp\; Member restaurants and caterers will be sampling delicious items.&nbsp\; This is the one event you don&#39\;t want to miss.
LOCATION:Country Lane Lodge 23900 Prospect Circle
UID:e.2561.3483
SEQUENCE:3
DTSTAMP:20260421T180830Z
URL:https://business.adelpartners.org/events/details/celebrate-adel-3483
END:VEVENT

END:VCALENDAR
