BEGIN:VCALENDAR
VERSION:2.0
PRODID:-//ChamberMaster//Event Calendar 2.0//EN
METHOD:PUBLISH
X-PUBLISHED-TTL:P3D
REFRESH-INTERVAL:P3D
CALSCALE:GREGORIAN
BEGIN:VEVENT
DTSTART:20200324T220000Z
DTEND:20200325T003000Z
X-MICROSOFT-CDO-ALLDAYEVENT:FALSE
SUMMARY:Celebrate Adel POSTPONED TBD
DESCRIPTION:Make a Connection Celebrate Adel --Annual Reception honoring the Business of the Year and Citizen of the Year
X-ALT-DESC;FMTTYPE=text/html:Make a Connection Celebrate Adel --Annual Reception honoring the Business of the Year and Citizen of the Year
LOCATION:Country Lane Lodge 29300 Prospect Circle Adel
UID:e.2561.3274
SEQUENCE:3
DTSTAMP:20260424T005540Z
URL:https://business.adelpartners.org/events/details/celebrate-adel-postponed-tbd-3274
END:VEVENT

END:VCALENDAR
