BEGIN:VCALENDAR
VERSION:2.0
PRODID:-//ChamberMaster//Event Calendar 2.0//EN
METHOD:PUBLISH
X-PUBLISHED-TTL:P3D
REFRESH-INTERVAL:P3D
CALSCALE:GREGORIAN
BEGIN:VEVENT
DTSTART:20260623T213000Z
DTEND:20260624T020000Z
X-MICROSOFT-CDO-ALLDAYEVENT:FALSE
SUMMARY:Chamber Night with the Iowa Cubs
DESCRIPTION:The Greater Des Moines Partnership and Adel Partners Chamber of Commerce are excited to invite you to a fun-filled evening for the annual Chamber Night with the Iowa Cubs! Join us on Tuesday\, June 23\, for a pre-game tailgate and an Iowa Cubs baseball game at Principal Park. \n\nAll member organizations\, their families\, and colleagues are welcome to attend.
X-ALT-DESC;FMTTYPE=text/html:<span style="font-family:arial\,sans-serif\;"><span style="font-size:12.0pt\;">The Greater Des Moines Partnership and Adel Partners Chamber of Commerce are excited to invite you to a fun-filled evening for the annual Chamber Night with the Iowa Cubs! Join us on Tuesday\, June 23\, for a pre-game tailgate and an Iowa Cubs baseball game at Principal Park.&nbsp\;<br />\nAll member organizations\, their families\, and colleagues are welcome to attend.&nbsp\;</span></span>
LOCATION:Principal Park. 1 Line Drive Des Moines IA 50309-4640 in the southwest corner of the north parking lot at Principal Park.
UID:e.2561.3623
SEQUENCE:3
DTSTAMP:20260425T235850Z
URL:https://business.adelpartners.org/events/details/chamber-night-with-the-iowa-cubs-3623
END:VEVENT

END:VCALENDAR
