BEGIN:VCALENDAR
VERSION:2.0
PRODID:-//ChamberMaster//Event Calendar 2.0//EN
METHOD:PUBLISH
X-PUBLISHED-TTL:P3D
REFRESH-INTERVAL:P3D
CALSCALE:GREGORIAN
BEGIN:VEVENT
DTSTART:20181207T200000Z
DTEND:20181208T020000Z
X-MICROSOFT-CDO-ALLDAYEVENT:FALSE
SUMMARY:Cheers to 25 Years Sip & Sample
DESCRIPTION:Join the Adel Parnters Chamber was they celebrate the holiday season.  The Adel Public Library is hosting a craft and book fair from 2-6pm.  Santa arrives at 3:30 in the community room with Mrs. Claus and Elf helping with children's craft until 5:30.  Santa relocates for the evening festivies to Salvage This (215 S 6th St) until 8pm.  HOrse and Carraige rides are at Restoration Harmony (1015 Riverside Dr) along with the angel tree at Harvey's Greenhouse.  CHEER cards (bingo) can be picked up at MOdville (1802 Greene St) to win prizes.  BUT best of all sip & sample recipes at ever business and pick up recipe cards.  See you there.
X-ALT-DESC;FMTTYPE=text/html:Join the Adel Parnters Chamber was they celebrate the holiday season.&nbsp\; The Adel Public Library is hosting a craft and book fair from 2-6pm.&nbsp\; Santa arrives at 3:30 in the community room with Mrs. Claus and Elf helping with children&#39\;s craft until 5:30.&nbsp\; Santa relocates for the evening festivies to Salvage This (215 S 6th St) until 8pm.&nbsp\; HOrse and Carraige rides are at Restoration Harmony (1015 Riverside Dr) along with the angel tree at Harvey&#39\;s Greenhouse.&nbsp\; CHEER cards (bingo) can be picked up at MOdville (1802 Greene St) to win prizes.&nbsp\; BUT best of all sip &amp\; sample recipes at ever business and pick up recipe cards.&nbsp\; See you there.
LOCATION:ADEL
UID:e.2561.3238
SEQUENCE:3
DTSTAMP:20260425T030423Z
URL:https://business.adelpartners.org/events/details/cheers-to-25-years-sip-sample-3238
END:VEVENT

END:VCALENDAR
