BEGIN:VCALENDAR
VERSION:2.0
PRODID:-//ChamberMaster//Event Calendar 2.0//EN
METHOD:PUBLISH
X-PUBLISHED-TTL:P3D
REFRESH-INTERVAL:P3D
CALSCALE:GREGORIAN
BEGIN:VEVENT
DTSTART:20260219T173000Z
DTEND:20260219T190000Z
X-MICROSOFT-CDO-ALLDAYEVENT:FALSE
SUMMARY:CHOW Chamber Happenings\, Opportunities & Wisdom
DESCRIPTION:Join us for a CHOW Luncheon presented by Sumpter Pharmacy hosted by Country Lane Lodge! At this month's luncheon you will hear from Jillian Newhard\, Senior Vice President at Strategic Elements\, a public affairs firm based in West Des Moines. Jillian will introduce the Small Business Payments Alliance (SBPA) a national coalition empowering small business owners to advocate for a secure\, reliable\, and affordable payments system. Attendees will learn how proposed federal policies\, including the Credit Card Competition Act (Durbin Marshall)\, could affect fraud protections\, access to credit\, and popular rewards programs.
X-ALT-DESC;FMTTYPE=text/html:Join us for a CHOW Luncheon presented by Sumpter Pharmacy hosted by Country Lane Lodge! At this month&#39\;s luncheon you will hear from Jillian Newhard\, Senior Vice President at Strategic Elements\, a public affairs firm based in West Des Moines. Jillian will introduce the Small Business Payments Alliance (SBPA)&mdash\;a national coalition empowering small business owners to advocate for a secure\, reliable\, and affordable payments system. Attendees will learn how proposed federal policies\, including the Credit Card Competition Act (Durbin&#8209\;Marshall)\, could affect fraud protections\, access to credit\, and popular rewards programs.
LOCATION:Country Lane Lodge 29300 Prospect Ave Adel\, Iowa 50003
UID:e.2561.3575
SEQUENCE:3
DTSTAMP:20260425T235901Z
URL:https://business.adelpartners.org/events/details/chow-chamber-happenings-opportunities-wisdom-02-19-2026-3575
END:VEVENT

END:VCALENDAR
