BEGIN:VCALENDAR
VERSION:2.0
PRODID:-//ChamberMaster//Event Calendar 2.0//EN
METHOD:PUBLISH
X-PUBLISHED-TTL:P3D
REFRESH-INTERVAL:P3D
CALSCALE:GREGORIAN
BEGIN:VEVENT
DTSTART:20251218T173000Z
DTEND:20251218T190000Z
X-MICROSOFT-CDO-ALLDAYEVENT:FALSE
SUMMARY:CHOW Chamber Happenings\, Opportunities & Wisdom
DESCRIPTION:Every other month the Adel Partners Chamber will offer our members an exclusive luncheon.  Members will have the opportunity to hear local presenters\, be updated on key topics including city projects\, growth and development\, business happenings\, chamber opportunities\, and great food from local vendors.
X-ALT-DESC;FMTTYPE=text/html:Every other month the Adel Partners Chamber will offer our members an exclusive luncheon.&nbsp\; Members will have the opportunity to hear local presenters\, be updated on key topics including city projects\, growth and development\, business happenings\, chamber opportunities\, and great food from local vendors.
LOCATION:Country Lane Lodge 29300 Prospect Ave Adel\, Iowa 50003
UID:e.2561.3574
SEQUENCE:3
DTSTAMP:20260419T142246Z
URL:https://business.adelpartners.org/events/details/chow-chamber-happenings-opportunities-wisdom-12-18-2025-3574
END:VEVENT

END:VCALENDAR
