BEGIN:VCALENDAR
VERSION:2.0
PRODID:-//ChamberMaster//Event Calendar 2.0//EN
METHOD:PUBLISH
X-PUBLISHED-TTL:P3D
REFRESH-INTERVAL:P3D
CALSCALE:GREGORIAN
BEGIN:VEVENT
DTSTART:20240620T163000Z
DTEND:20240620T180000Z
X-MICROSOFT-CDO-ALLDAYEVENT:FALSE
SUMMARY:CHOW Chamber Happenings\, Opportunities & Wisdom
DESCRIPTION:Every other month the Adel Partners Chamber will offer our members an exclusive luncheon.  Members will have the opportunity to hear local presenters\, be updated on key topics including city projects\, growth and development\, business happenings\, chamber opportunities\, and great food from local vendors.
X-ALT-DESC;FMTTYPE=text/html:Every other month the Adel Partners Chamber will offer our members an exclusive luncheon.&nbsp\; Members will have the opportunity to hear local presenters\, be updated on key topics including city projects\, growth and development\, business happenings\, chamber opportunities\, and great food from local vendors.
LOCATION:Faith Lutheran Church 602 S. 14th St Community Room
UID:e.2561.3536
SEQUENCE:3
DTSTAMP:20260420T200000Z
URL:https://business.adelpartners.org/events/details/chow-chamber-happenings-opportunities-wisdom-3536
END:VEVENT

END:VCALENDAR
