BEGIN:VCALENDAR
VERSION:2.0
PRODID:-//ChamberMaster//Event Calendar 2.0//EN
METHOD:PUBLISH
X-PUBLISHED-TTL:P3D
REFRESH-INTERVAL:P3D
CALSCALE:GREGORIAN
BEGIN:VEVENT
DTSTART:20201121T000000Z
DTEND:20201121T020000Z
X-MICROSOFT-CDO-ALLDAYEVENT:FALSE
SUMMARY:Chunky Knit Blanket Workshop
DESCRIPTION:Invite your friends and join us (in-person or virtually!) for an evening of fun at this one-of-a-kind event! We'll guide you step-by-step through hand knitting a warm\, soft chunky knit blanket.\n\nNo knitting experience or needles are required and all supplies will be provided. Choose your colors and make your very own custom blanket.\n\nCost is $50 for 3rd Place Insiders and $60 for those who are not. This covers materials (5 bundles of chunky yarn) and instruction.
X-ALT-DESC;FMTTYPE=text/html:<div class="kvgmc6g5 cxmmr5t8 oygrvhab hcukyx3x c1et5uql" style="overflow-wrap: break-word\; margin: 0px\; font-family: &quot\;Segoe UI Historic&quot\;\, &quot\;Segoe UI&quot\;\, Helvetica\, Arial\, sans-serif\; color: rgb(5\, 5\, 5)\; font-size: 15px\; background-color: rgb(255\, 255\, 255)\;">Invite your friends and join us (in-person or virtually!) for an evening of fun at this one-of-a-kind event! We&#39\;ll guide you step-by-step through hand knitting a warm\, soft chunky knit blanket.</div>\n\n<div class="o9v6fnle cxmmr5t8 oygrvhab hcukyx3x c1et5uql" style="overflow-wrap: break-word\; margin: 0.5em 0px 0px\; font-family: &quot\;Segoe UI Historic&quot\;\, &quot\;Segoe UI&quot\;\, Helvetica\, Arial\, sans-serif\; color: rgb(5\, 5\, 5)\; font-size: 15px\; background-color: rgb(255\, 255\, 255)\;">No knitting experience or needles are required and all supplies will be provided. Choose your colors and make your very own custom blanket.</div>\n\n<div class="o9v6fnle cxmmr5t8 oygrvhab hcukyx3x c1et5uql" style="overflow-wrap: break-word\; margin: 0.5em 0px 0px\; font-family: &quot\;Segoe UI Historic&quot\;\, &quot\;Segoe UI&quot\;\, Helvetica\, Arial\, sans-serif\; color: rgb(5\, 5\, 5)\; font-size: 15px\; background-color: rgb(255\, 255\, 255)\;">Cost is $50 for 3rd Place Insiders and $60 for those who are not. This covers materials (5 bundles of chunky yarn) and instruction.</div>\n
LOCATION:3rd Place 807 Main St Adel
UID:e.2561.3305
SEQUENCE:3
DTSTAMP:20260423T141603Z
URL:https://business.adelpartners.org/events/details/chunky-knit-blanket-workshop-3305
END:VEVENT

END:VCALENDAR
