BEGIN:VCALENDAR
VERSION:2.0
PRODID:-//ChamberMaster//Event Calendar 2.0//EN
METHOD:PUBLISH
X-PUBLISHED-TTL:P3D
REFRESH-INTERVAL:P3D
CALSCALE:GREGORIAN
BEGIN:VEVENT
DTSTART:20190104T130000Z
DTEND:20190104T140000Z
X-MICROSOFT-CDO-ALLDAYEVENT:FALSE
SUMMARY:Coffee and Conversation
DESCRIPTION:Coffee & Conversation at Adel Yoga and Wellness Studio and Knead Massage Therapy   Health and Wellness is a great way to start 2019.\n\nDr Amy Willcoksen from Living Haelthy Iowa will be speaking about being healthy in Iowa\, Dallas County and your business.  Shannen and Susan will be shared healthy ideas and trends in Adel.
X-ALT-DESC;FMTTYPE=text/html:Coffee &amp\; Conversation at Adel Yoga and Wellness Studio and Knead Massage Therapy&nbsp\; &nbsp\;Health and Wellness is a great way to start 2019.<br />\nDr Amy Willcoksen from Living Haelthy Iowa will be speaking about being healthy in Iowa\, Dallas County and your business.&nbsp\; Shannen and Susan will be shared healthy ideas and trends in Adel.
LOCATION:1317 Greene Street
UID:e.2561.3236
SEQUENCE:3
DTSTAMP:20260424T234605Z
URL:https://business.adelpartners.org/events/details/coffee-and-conversation-3236
END:VEVENT

END:VCALENDAR
