BEGIN:VCALENDAR
VERSION:2.0
PRODID:-//ChamberMaster//Event Calendar 2.0//EN
METHOD:PUBLISH
X-PUBLISHED-TTL:P3D
REFRESH-INTERVAL:P3D
CALSCALE:GREGORIAN
BEGIN:VEVENT
DTSTART:20190405T120000Z
DTEND:20190405T130000Z
X-MICROSOFT-CDO-ALLDAYEVENT:FALSE
SUMMARY:Coffee and Conversation
DESCRIPTION:Coffee and Conversation  Update by the City
X-ALT-DESC;FMTTYPE=text/html:Coffee and Conversation&nbsp\; Update by the City
LOCATION:Adel American Legion 119 N 9th St Adel
UID:e.2561.3252
SEQUENCE:3
DTSTAMP:20260424T192119Z
URL:https://business.adelpartners.org/events/details/coffee-and-conversation-3252
END:VEVENT

END:VCALENDAR
