BEGIN:VCALENDAR
VERSION:2.0
PRODID:-//ChamberMaster//Event Calendar 2.0//EN
METHOD:PUBLISH
X-PUBLISHED-TTL:P3D
REFRESH-INTERVAL:P3D
CALSCALE:GREGORIAN
BEGIN:VEVENT
DTSTART:20190906T120000Z
DTEND:20190906T130000Z
X-MICROSOFT-CDO-ALLDAYEVENT:FALSE
SUMMARY:Coffee and Conversation
DESCRIPTION:Join Edward Jones and the Adel Partners Chamber for coffee and conversation.  You will have the opportunity to introduce yourself and business along with discussion about current topics.
X-ALT-DESC;FMTTYPE=text/html:Join Edward Jones and the Adel Partners Chamber for coffee and conversation.&nbsp\; You will have the opportunity to introduce yourself and business along with discussion about current topics.&nbsp\;
LOCATION:412 Greene St
UID:e.2561.3258
SEQUENCE:3
DTSTAMP:20260424T091534Z
URL:https://business.adelpartners.org/events/details/coffee-and-conversation-3258
END:VEVENT

END:VCALENDAR
