BEGIN:VCALENDAR
VERSION:2.0
PRODID:-//ChamberMaster//Event Calendar 2.0//EN
METHOD:PUBLISH
X-PUBLISHED-TTL:P3D
REFRESH-INTERVAL:P3D
CALSCALE:GREGORIAN
BEGIN:VEVENT
DTSTART:20200207T130000Z
DTEND:20200207T140000Z
X-MICROSOFT-CDO-ALLDAYEVENT:FALSE
SUMMARY:Coffee and Conversation
DESCRIPTION:Join Athletico Physical Therapy and the Adel Partners Chamber for the first 2020 Coffee & Conversation.  Attendees will have the opportunity to introduce themselves and their business\, discuss 2020 goals and learn more about the 2020 Census.
X-ALT-DESC;FMTTYPE=text/html:Join Athletico Physical Therapy and the Adel Partners Chamber for the first 2020 Coffee &amp\; Conversation.&nbsp\; Attendees will have the opportunity to introduce themselves and their business\, discuss 2020 goals and learn more about the 2020 Census.&nbsp\;
LOCATION:Athletico Physical Therapy 513 Nile kinnick Dr S Suite A
UID:e.2561.3277
SEQUENCE:3
DTSTAMP:20260424T020759Z
URL:https://business.adelpartners.org/events/details/coffee-and-conversation-3277
END:VEVENT

END:VCALENDAR
