BEGIN:VCALENDAR
VERSION:2.0
PRODID:-//ChamberMaster//Event Calendar 2.0//EN
METHOD:PUBLISH
X-PUBLISHED-TTL:P3D
REFRESH-INTERVAL:P3D
CALSCALE:GREGORIAN
BEGIN:VEVENT
DTSTART:20190503T120000Z
DTEND:20190503T130000Z
X-MICROSOFT-CDO-ALLDAYEVENT:FALSE
SUMMARY:Coffee & Conversation
DESCRIPTION:Join the Adel Dental Group for coffee & conversation about mentors and marketing.
X-ALT-DESC;FMTTYPE=text/html:Join the Adel Dental Group for coffee &amp\; conversation about mentors and marketing.
LOCATION:202 Nile Kinnick Dr S
UID:e.2561.3253
SEQUENCE:3
DTSTAMP:20260424T175458Z
URL:https://business.adelpartners.org/events/details/coffee-conversation-3253
END:VEVENT

END:VCALENDAR
