BEGIN:VCALENDAR
VERSION:2.0
PRODID:-//ChamberMaster//Event Calendar 2.0//EN
METHOD:PUBLISH
X-PUBLISHED-TTL:P3D
REFRESH-INTERVAL:P3D
CALSCALE:GREGORIAN
BEGIN:VEVENT
DTSTART:20200306T130000Z
DTEND:20200306T140000Z
X-MICROSOFT-CDO-ALLDAYEVENT:FALSE
SUMMARY:Coffee & Conversation
DESCRIPTION:Join Adel Acres and the Adel Partners Chamber for an hour of conversation and netowrking
X-ALT-DESC;FMTTYPE=text/html:Join Adel Acres and the Adel Partners Chamber for an hour of conversation and netowrking&nbsp\;
LOCATION:Adel Acres 1919 Greene St
UID:e.2561.3278
SEQUENCE:3
DTSTAMP:20260424T004554Z
URL:https://business.adelpartners.org/events/details/coffee-conversation-3278
END:VEVENT

END:VCALENDAR
