BEGIN:VCALENDAR
VERSION:2.0
PRODID:-//ChamberMaster//Event Calendar 2.0//EN
METHOD:PUBLISH
X-PUBLISHED-TTL:P3D
REFRESH-INTERVAL:P3D
CALSCALE:GREGORIAN
BEGIN:VEVENT
DTSTART:20200605T123000Z
DTEND:20200605T133000Z
X-MICROSOFT-CDO-ALLDAYEVENT:FALSE
SUMMARY:Coffee & Conversation
DESCRIPTION:Grab a coffee and bagel a join us for conversation\n\nTopics of Discussion\n\nSweet Festival and Recovery Phase from C'OVID 19.\n\n \n\nZoom Meeting #664 163 0302 Password # 793431
X-ALT-DESC;FMTTYPE=text/html:<div>Grab a coffee and bagel a join us for conversation</div>\n\n<div>Topics of Discussion</div>\n\n<div>Sweet Festival and Recovery Phase from C&#39\;OVID 19.</div>\n\n<div>&nbsp\;</div>\n\n<div>Zoom Meeting #664 163 0302 Password # 793431</div>\n\n<div>&nbsp\;</div>\n
LOCATION:Zoom Meeting #664 163 0302 password #793431
UID:e.2561.3289
SEQUENCE:3
DTSTAMP:20260423T203910Z
URL:https://business.adelpartners.org/events/details/coffee-conversation-3289
END:VEVENT

END:VCALENDAR
