BEGIN:VCALENDAR
VERSION:2.0
PRODID:-//ChamberMaster//Event Calendar 2.0//EN
METHOD:PUBLISH
X-PUBLISHED-TTL:P3D
REFRESH-INTERVAL:P3D
CALSCALE:GREGORIAN
BEGIN:VEVENT
DTSTART:20190604T213000Z
DTEND:20190604T223000Z
X-MICROSOFT-CDO-ALLDAYEVENT:FALSE
SUMMARY:Core Physical Therapy Ribbon Cutting
DESCRIPTION:Join us to welcome core Physical Therapy to their newbeautiful building.\n\nWe will cut the ribbon at 5pm
X-ALT-DESC;FMTTYPE=text/html:Join us to welcome core Physical Therapy to their newbeautiful building.<br />\nWe will cut the ribbon at 5pm
LOCATION:803 Copttage St
UID:e.2561.3257
SEQUENCE:3
DTSTAMP:20260424T162847Z
URL:https://business.adelpartners.org/events/details/core-physical-therapy-ribbon-cutting-3257
END:VEVENT

END:VCALENDAR
