BEGIN:VCALENDAR
VERSION:2.0
PRODID:-//ChamberMaster//Event Calendar 2.0//EN
METHOD:PUBLISH
X-PUBLISHED-TTL:P3D
REFRESH-INTERVAL:P3D
CALSCALE:GREGORIAN
BEGIN:VEVENT
DTSTART:20200604T140000Z
DTEND:20200604T153000Z
X-MICROSOFT-CDO-ALLDAYEVENT:FALSE
SUMMARY:Dallas County Community Health Speaker Series
DESCRIPTION:Join community partners from across the county to learn about the services and agencies in Dallas County. Our June speakers will represent Iowa Safe Routes to School\, Dental Connections\, and Dallas County EMS.
X-ALT-DESC;FMTTYPE=text/html:Join community partners from across the county to learn about the services and agencies in Dallas County. Our June speakers will represent Iowa Safe Routes to School\, Dental Connections\, and Dallas County EMS.&nbsp\;
LOCATION:Dallas County Human Services Campus
UID:e.2561.3283
SEQUENCE:3
DTSTAMP:20260423T231025Z
URL:https://business.adelpartners.org/events/details/dallas-county-community-health-speaker-series-06-04-2020-3283
END:VEVENT

END:VCALENDAR
