BEGIN:VCALENDAR
VERSION:2.0
PRODID:-//ChamberMaster//Event Calendar 2.0//EN
METHOD:PUBLISH
X-PUBLISHED-TTL:P3D
REFRESH-INTERVAL:P3D
CALSCALE:GREGORIAN
BEGIN:VEVENT
DTSTART:20200903T140000Z
DTEND:20200903T153000Z
X-MICROSOFT-CDO-ALLDAYEVENT:FALSE
SUMMARY:Dallas County Community Health Speaker Series
DESCRIPTION:Join community partners from across the county to learn about the services and agencies in Dallas County.
X-ALT-DESC;FMTTYPE=text/html:Join community partners from across the county to learn about the services and agencies in Dallas County.&nbsp\;
LOCATION:Dallas County Human Services Campus
UID:e.2561.3284
SEQUENCE:3
DTSTAMP:20260423T190051Z
URL:https://business.adelpartners.org/events/details/dallas-county-community-health-speaker-series-09-03-2020-3284
END:VEVENT

END:VCALENDAR
