BEGIN:VCALENDAR
VERSION:2.0
PRODID:-//ChamberMaster//Event Calendar 2.0//EN
METHOD:PUBLISH
X-PUBLISHED-TTL:P3D
REFRESH-INTERVAL:P3D
CALSCALE:GREGORIAN
BEGIN:VEVENT
DTSTART:20200305T150000Z
DTEND:20200305T163000Z
X-MICROSOFT-CDO-ALLDAYEVENT:FALSE
SUMMARY:Dallas County Community Health Speaker Series
DESCRIPTION:Join community partners from across the county to learn about the services and agencies in Dallas County. Our March speakers will include EMBARC (Ethnic Minorities of Burma Advocacy and Resource Center)\, U.S. Census Bureau\, and the American Lung Association.
X-ALT-DESC;FMTTYPE=text/html:Join community partners from across the county to learn about the services and agencies in Dallas County. Our March speakers will include EMBARC (Ethnic Minorities of Burma Advocacy and Resource Center)\, U.S. Census Bureau\, and the American Lung Association.&nbsp\;
LOCATION:Dallas County Human Services Campus 25747 N Ave.\, Adel\, IA 50003
UID:e.2561.3282
SEQUENCE:3
DTSTAMP:20260424T030840Z
URL:https://business.adelpartners.org/events/details/dallas-county-community-health-speaker-series-3282
END:VEVENT

END:VCALENDAR
