BEGIN:VCALENDAR
VERSION:2.0
PRODID:-//ChamberMaster//Event Calendar 2.0//EN
METHOD:PUBLISH
X-PUBLISHED-TTL:P3D
REFRESH-INTERVAL:P3D
CALSCALE:GREGORIAN
BEGIN:VEVENT
DTSTART;VALUE=DATE:20180602
DTEND;VALUE=DATE:20180603
TRANSP:TRANSPARENT
X-MICROSOFT-CDO-ALLDAYEVENT:TRUE
SUMMARY:Dallas County Sheriff's Office Special Olympics All Wheel Show
DESCRIPTION:Dallas County Sheriff's Office Special Olympics All Wheel Show
X-ALT-DESC;FMTTYPE=text/html:<span style="font-family:arial\,sans-serif\;"><span style="font-size:10.0pt\;">Dallas County Sheriff&#39\;s Office Special Olympics All Wheel Show&nbsp\;</span></span>
LOCATION:The square in Adel Iowa
UID:e.2561.3224
SEQUENCE:3
DTSTAMP:20260425T104551Z
URL:https://business.adelpartners.org/events/details/dallas-county-sheriff-s-office-special-olympics-all-wheel-show-3224
END:VEVENT

END:VCALENDAR
