BEGIN:VCALENDAR
VERSION:2.0
PRODID:-//ChamberMaster//Event Calendar 2.0//EN
METHOD:PUBLISH
X-PUBLISHED-TTL:P3D
REFRESH-INTERVAL:P3D
CALSCALE:GREGORIAN
BEGIN:VEVENT
DTSTART:20260917T200000Z
DTEND:20260917T210000Z
X-MICROSOFT-CDO-ALLDAYEVENT:FALSE
SUMMARY:Dallas County Suicide Prevention Coalition
DESCRIPTION:The Dallas County Suicide Prevention Coalition's vision is "Supporting-Connecting-Giving Hope and Reducing Stigma through Education & Advocacy".\n\n\n\nJoin us for our monthly coalition meeting to hear updates on current projects\, plan future outreach\, and share updates on your suicide prevention efforts and agency events.
X-ALT-DESC;FMTTYPE=text/html:<span style="color:rgb(142\, 142\, 142)\; font-family:montserrat\,sans-serif\; font-size:15px">The Dallas County Suicide Prevention Coalition&#39\;s vision is &quot\;Supporting-Connecting-Giving Hope and Reducing Stigma through Education &amp\; Advocacy&quot\;.</span><br />\n<br />\n<span style="color:rgb(142\, 142\, 142)\; font-family:montserrat\,sans-serif\; font-size:15px">Join us for our monthly coalition meeting to hear updates on current projects\, plan future outreach\, and share updates on your suicide prevention efforts and agency events.&nbsp\;</span>
LOCATION:Zoom Register at https://us06web.zoom.us/meeting/register/tZEpdO6pqzIvGNGqiMIQobdM7uLaWuYkKSMs
UID:e.2561.4153
SEQUENCE:3
DTSTAMP:20260426T042119Z
URL:https://business.adelpartners.org/events/details/dallas-county-suicide-prevention-coalition-09-17-2026-4153
END:VEVENT

END:VCALENDAR
