BEGIN:VCALENDAR
VERSION:2.0
PRODID:-//ChamberMaster//Event Calendar 2.0//EN
METHOD:PUBLISH
X-PUBLISHED-TTL:P3D
REFRESH-INTERVAL:P3D
CALSCALE:GREGORIAN
BEGIN:VEVENT
DTSTART:20190307T223000Z
DTEND:20190307T233000Z
X-MICROSOFT-CDO-ALLDAYEVENT:FALSE
SUMMARY:Drinks and Discussion
DESCRIPTION:Join us for a discussion on happenings in Adel along with what does wrok life balance mean?
X-ALT-DESC;FMTTYPE=text/html:Join us for a discussion on happenings in Adel along with what does wrok life balance mean?
LOCATION:Restoration Harmony 1015 Riverside Drive
UID:e.2561.3250
SEQUENCE:3
DTSTAMP:20260424T203648Z
URL:https://business.adelpartners.org/events/details/drinks-and-discussion-3250
END:VEVENT

END:VCALENDAR
