BEGIN:VCALENDAR
VERSION:2.0
PRODID:-//ChamberMaster//Event Calendar 2.0//EN
METHOD:PUBLISH
X-PUBLISHED-TTL:P3D
REFRESH-INTERVAL:P3D
CALSCALE:GREGORIAN
BEGIN:VEVENT
DTSTART:20190606T213000Z
DTEND:20190606T223000Z
X-MICROSOFT-CDO-ALLDAYEVENT:FALSE
SUMMARY:Drinks & Discussion
DESCRIPTION:Join Modville for drinks and discussion about Envision Adel 2040.  The comprehensive plan for the City of Adel
X-ALT-DESC;FMTTYPE=text/html:Join Modville for drinks and discussion about Envision Adel 2040.&nbsp\; The comprehensive plan for the City of Adel
LOCATION:1802 Greene St
UID:e.2561.3254
SEQUENCE:3
DTSTAMP:20260424T162626Z
URL:https://business.adelpartners.org/events/details/drinks-discussion-3254
END:VEVENT

END:VCALENDAR
