BEGIN:VCALENDAR
VERSION:2.0
PRODID:-//ChamberMaster//Event Calendar 2.0//EN
METHOD:PUBLISH
X-PUBLISHED-TTL:P3D
REFRESH-INTERVAL:P3D
CALSCALE:GREGORIAN
BEGIN:VEVENT
DTSTART:20201106T230000Z
DTEND:20201107T010000Z
X-MICROSOFT-CDO-ALLDAYEVENT:FALSE
SUMMARY:Drive-Thru Harvest Dinner
DESCRIPTION:Faith Lutheran Church will be hosting a Drive-Thru Harvest dinner on Friday November 6 from 5 pm to 7 pm. Menu will include turkey\, dressing\, gravy\, sweet potatoes\, green beans\, dinner roll\, cranberry relish\, and pumpkin bar. Free will offering. All proceeds will go to the Cole Williamson family. https://www.caringbridge.org/visit/colewillsamson2
X-ALT-DESC;FMTTYPE=text/html:Faith Lutheran Church will be hosting a Drive-Thru Harvest dinner on Friday November 6 from 5 pm to 7 pm. Menu will include turkey\, dressing\, gravy\, sweet potatoes\, green beans\, dinner roll\, cranberry relish\, and pumpkin bar. Free will offering. All proceeds will go to the Cole Williamson family. https://www.caringbridge.org/visit/colewillsamson2
LOCATION:602 A. 14th St. Adel\, IA 50003
UID:e.2561.3299
SEQUENCE:3
DTSTAMP:20260423T160829Z
URL:https://business.adelpartners.org/events/details/drive-thru-harvest-dinner-3299
END:VEVENT

END:VCALENDAR
