BEGIN:VCALENDAR
VERSION:2.0
PRODID:-//ChamberMaster//Event Calendar 2.0//EN
METHOD:PUBLISH
X-PUBLISHED-TTL:P3D
REFRESH-INTERVAL:P3D
CALSCALE:GREGORIAN
BEGIN:VEVENT
DTSTART:20181101T213000Z
DTEND:20181101T223000Z
X-MICROSOFT-CDO-ALLDAYEVENT:FALSE
SUMMARY:Facetime Mixer
DESCRIPTION:Join the Modville for a relaxing time of networking\, learning and food/drink.
X-ALT-DESC;FMTTYPE=text/html:Join the Modville for a relaxing time of networking\, learning and food/drink.
LOCATION:Modville 1802 Greene St Adel
UID:e.2561.1216
SEQUENCE:3
DTSTAMP:20260425T030222Z
URL:https://business.adelpartners.org/events/details/facetime-mixer-1216
END:VEVENT

END:VCALENDAR
