BEGIN:VCALENDAR
VERSION:2.0
PRODID:-//ChamberMaster//Event Calendar 2.0//EN
METHOD:PUBLISH
X-PUBLISHED-TTL:P3D
REFRESH-INTERVAL:P3D
CALSCALE:GREGORIAN
BEGIN:VEVENT
DTSTART:20180504T120000Z
DTEND:20180504T130000Z
X-MICROSOFT-CDO-ALLDAYEVENT:FALSE
SUMMARY:Facetime Morning Mixer
DESCRIPTION:Join the City of Adel and the Adel Partners Chamber as we learn more about the Adel Water Treatment plant and upcoming changes.  You can tour the plant and learn about the new water treatment plant to be built.
X-ALT-DESC;FMTTYPE=text/html:Join the City of Adel and the Adel Partners Chamber as we learn more about the Adel&nbsp\;Water Treatment plant and upcoming changes.&nbsp\; You can tour the plant and learn about the new water treatment plant to be built.
LOCATION:308 N 5th Street
UID:e.2561.3221
SEQUENCE:3
DTSTAMP:20260425T121402Z
URL:https://business.adelpartners.org/events/details/facetime-morning-mixer-3221
END:VEVENT

END:VCALENDAR
