BEGIN:VCALENDAR
VERSION:2.0
PRODID:-//ChamberMaster//Event Calendar 2.0//EN
METHOD:PUBLISH
X-PUBLISHED-TTL:P3D
REFRESH-INTERVAL:P3D
CALSCALE:GREGORIAN
BEGIN:VEVENT
DTSTART:20180601T120000Z
DTEND:20180601T130000Z
X-MICROSOFT-CDO-ALLDAYEVENT:FALSE
SUMMARY:Facetime Morning Mixer
DESCRIPTION:Join the Adel Vet Clinic for an hour of networking and conversation.
X-ALT-DESC;FMTTYPE=text/html:Join the Adel Vet&nbsp\;Clinic for an hour of networking and conversation.
LOCATION:619 Greene St
UID:e.2561.3226
SEQUENCE:3
DTSTAMP:20260425T104404Z
URL:https://business.adelpartners.org/events/details/facetime-morning-mixer-3226
END:VEVENT

END:VCALENDAR
