BEGIN:VCALENDAR
VERSION:2.0
PRODID:-//ChamberMaster//Event Calendar 2.0//EN
METHOD:PUBLISH
X-PUBLISHED-TTL:P3D
REFRESH-INTERVAL:P3D
CALSCALE:GREGORIAN
BEGIN:VEVENT
DTSTART:20190323T130000Z
DTEND:20190323T180000Z
X-MICROSOFT-CDO-ALLDAYEVENT:FALSE
SUMMARY:Faith's Flock Preschool Rummage and Bake Sale
DESCRIPTION:Saturday March 23rd from 8:00 am to 1:00 pm the Faith's Flock Preschool will be holding their first annual rummage and bake sale fundraiser at Faith Lutheran Church and Preschool (602 S. 14th Street). All proceeds will go to the preschool. Cash only. Baby/Kids items sold: Clothes and shoes Toys and games Books/Movies/CDs Sports Equipment Maternity clothes/items
X-ALT-DESC;FMTTYPE=text/html:Saturday March 23rd from 8:00 am to 1:00 pm the Faith&#39\;s Flock Preschool will be holding their first annual rummage and bake sale fundraiser at Faith Lutheran Church and Preschool (602 S. 14th Street). All proceeds will go to the preschool. Cash only. Baby/Kids items sold: Clothes and shoes Toys and games Books/Movies/CDs Sports Equipment Maternity clothes/items
LOCATION:Faith Lutheran Church and Preschool 602 S 14th Street Adel\, IA 50003
UID:e.2561.3251
SEQUENCE:3
DTSTAMP:20260424T204832Z
URL:https://business.adelpartners.org/events/details/faith-s-flock-preschool-rummage-and-bake-sale-3251
END:VEVENT

END:VCALENDAR
