BEGIN:VCALENDAR
VERSION:2.0
PRODID:-//ChamberMaster//Event Calendar 2.0//EN
METHOD:PUBLISH
X-PUBLISHED-TTL:P3D
REFRESH-INTERVAL:P3D
CALSCALE:GREGORIAN
BEGIN:VEVENT
DTSTART:20220521T220000Z
DTEND:20220522T040000Z
X-MICROSOFT-CDO-ALLDAYEVENT:FALSE
SUMMARY:Figure 8 Racing
DESCRIPTION:Enjoy an evening of figure 8 racing with the Dallas County Fair Board
X-ALT-DESC;FMTTYPE=text/html:Enjoy an evening of figure 8 racing with the Dallas County Fair Board<br />\n&nbsp\;
LOCATION:28057 Fairground Road
UID:e.2561.3455
SEQUENCE:3
DTSTAMP:20260422T120841Z
URL:https://business.adelpartners.org/events/details/figure-8-racing-3455
END:VEVENT

END:VCALENDAR
