BEGIN:VCALENDAR
VERSION:2.0
PRODID:-//ChamberMaster//Event Calendar 2.0//EN
METHOD:PUBLISH
X-PUBLISHED-TTL:P3D
REFRESH-INTERVAL:P3D
CALSCALE:GREGORIAN
BEGIN:VEVENT
DTSTART:20201011T210000Z
DTEND:20201012T000000Z
X-MICROSOFT-CDO-ALLDAYEVENT:FALSE
SUMMARY:Flannel Fling
DESCRIPTION:Chili Feed\, Cider Bar & Signature Drinks\n\nBags Tournament\, Fall Family Mini Photo Sessions\, Pick your pumpkins\, Smore's\, Selfie Station\, Kids Crafts\, Live Music\, Vendors\,
X-ALT-DESC;FMTTYPE=text/html:Chili Feed\, Cider Bar &amp\; Signature Drinks<br />\nBags Tournament\, Fall Family Mini Photo Sessions\, Pick your pumpkins\, Smore&#39\;s\, Selfie Station\, Kids Crafts\, Live Music\, Vendors\,
LOCATION:Harmony Hall on Riverside 1015 Riverside Dr Adel
UID:e.2561.3300
SEQUENCE:3
DTSTAMP:20260423T153618Z
URL:https://business.adelpartners.org/events/details/flannel-fling-3300
END:VEVENT

END:VCALENDAR
