BEGIN:VCALENDAR
VERSION:2.0
PRODID:-//ChamberMaster//Event Calendar 2.0//EN
METHOD:PUBLISH
X-PUBLISHED-TTL:P3D
REFRESH-INTERVAL:P3D
CALSCALE:GREGORIAN
BEGIN:VEVENT
DTSTART:20200714T220000Z
DTEND:20200715T000000Z
X-MICROSOFT-CDO-ALLDAYEVENT:FALSE
SUMMARY:Fresh Finds Farmers Market
DESCRIPTION:A weekly farmers market featuring products from growers\, farmers\, and artisans.
X-ALT-DESC;FMTTYPE=text/html:A weekly farmers market featuring products from growers\, farmers\, and artisans.
LOCATION:1015 Riverside Dr Harmony Hall on Riverside
UID:e.2561.3292
SEQUENCE:3
DTSTAMP:20260423T192737Z
URL:https://business.adelpartners.org/events/details/fresh-finds-farmers-market-3292
END:VEVENT

END:VCALENDAR
