BEGIN:VCALENDAR
VERSION:2.0
PRODID:-//ChamberMaster//Event Calendar 2.0//EN
METHOD:PUBLISH
X-PUBLISHED-TTL:P3D
REFRESH-INTERVAL:P3D
CALSCALE:GREGORIAN
BEGIN:VEVENT
DTSTART:20210211T233000Z
DTEND:20210212T013000Z
X-MICROSOFT-CDO-ALLDAYEVENT:FALSE
SUMMARY:Galentine's Day Azalea Lane Boutique
DESCRIPTION:Join Azalea Lane Boutique for a Galentine's Day event.  Shop for the perfect gift and see the new spring clothing.
X-ALT-DESC;FMTTYPE=text/html:Join Azalea Lane Boutique for a Galentine&#39\;s Day event.&nbsp\; Shop for the perfect gift and see the new spring clothing.
LOCATION:705 Main St Adel\, Iowa 50003
UID:e.2561.3310
SEQUENCE:3
DTSTAMP:20260423T101059Z
URL:https://business.adelpartners.org/events/details/galentine-s-day-azalea-lane-boutique-3310
END:VEVENT

END:VCALENDAR
