BEGIN:VCALENDAR
VERSION:2.0
PRODID:-//ChamberMaster//Event Calendar 2.0//EN
METHOD:PUBLISH
X-PUBLISHED-TTL:P3D
REFRESH-INTERVAL:P3D
CALSCALE:GREGORIAN
BEGIN:VEVENT
DTSTART:20210713T150000Z
DTEND:20210716T210000Z
X-MICROSOFT-CDO-ALLDAYEVENT:FALSE
SUMMARY:Grand Closing Celebration
DESCRIPTION:After 20 years in business\, the store at 909 Prairie St\, Adel Quilting & Dry Goods Co\, is closing. The online store and events calendar will stay active. This celebration includes refreshments and a commemorative quilt pattern designed just for this event\, a special gift for the first 50 customers each day and an outdoor quilt show on July 16 featuring special shop quilts.
X-ALT-DESC;FMTTYPE=text/html:After 20 years in business\, the store at 909 Prairie St\, Adel Quilting &amp\; Dry Goods Co\, is closing. The online store and events calendar will stay active. This celebration includes refreshments and a commemorative quilt pattern designed just for this event\, a special gift for the first 50 customers each day and an outdoor quilt show on July 16 featuring special shop quilts.
LOCATION:909 Prairie Street - Adel
UID:e.2561.3388
SEQUENCE:3
DTSTAMP:20260423T041814Z
URL:https://business.adelpartners.org/events/details/grand-closing-celebration-3388
END:VEVENT

END:VCALENDAR
