BEGIN:VCALENDAR
VERSION:2.0
PRODID:-//ChamberMaster//Event Calendar 2.0//EN
METHOD:PUBLISH
X-PUBLISHED-TTL:P3D
REFRESH-INTERVAL:P3D
CALSCALE:GREGORIAN
BEGIN:VEVENT
DTSTART:20191107T210000Z
DTEND:20191107T220000Z
X-MICROSOFT-CDO-ALLDAYEVENT:FALSE
SUMMARY:Groundbreaking Keystone Development in DeSoto
DESCRIPTION:Help us welcome Keystone Development to DeSoto for their newest residential development
X-ALT-DESC;FMTTYPE=text/html:Help us welcome Keystone Development to DeSoto for their newest residential development
LOCATION:East of ADM Intermediate School 317 Spruce St
UID:e.2561.3273
SEQUENCE:3
DTSTAMP:20260424T062534Z
URL:https://business.adelpartners.org/events/details/groundbreaking-keystone-development-in-desoto-3273
END:VEVENT

END:VCALENDAR
